BEGIN:VCALENDAR
VERSION:2.0
PRODID:-//Happiness And Life Academy - ECPv6.15.18//NONSGML v1.0//EN
CALSCALE:GREGORIAN
METHOD:PUBLISH
X-WR-CALNAME:Happiness And Life Academy
X-ORIGINAL-URL:https://www.happinessandlifeacademy.com
X-WR-CALDESC:Eventos para Happiness And Life Academy
REFRESH-INTERVAL;VALUE=DURATION:PT1H
X-Robots-Tag:noindex
X-PUBLISHED-TTL:PT1H
BEGIN:VTIMEZONE
TZID:Europe/Madrid
BEGIN:DAYLIGHT
TZOFFSETFROM:+0100
TZOFFSETTO:+0200
TZNAME:CEST
DTSTART:20240331T010000
END:DAYLIGHT
BEGIN:STANDARD
TZOFFSETFROM:+0200
TZOFFSETTO:+0100
TZNAME:CET
DTSTART:20241027T010000
END:STANDARD
BEGIN:DAYLIGHT
TZOFFSETFROM:+0100
TZOFFSETTO:+0200
TZNAME:CEST
DTSTART:20250330T010000
END:DAYLIGHT
BEGIN:STANDARD
TZOFFSETFROM:+0200
TZOFFSETTO:+0100
TZNAME:CET
DTSTART:20251026T010000
END:STANDARD
BEGIN:DAYLIGHT
TZOFFSETFROM:+0100
TZOFFSETTO:+0200
TZNAME:CEST
DTSTART:20260329T010000
END:DAYLIGHT
BEGIN:STANDARD
TZOFFSETFROM:+0200
TZOFFSETTO:+0100
TZNAME:CET
DTSTART:20261025T010000
END:STANDARD
END:VTIMEZONE
BEGIN:VEVENT
DTSTART;TZID=Europe/Madrid:20250924T080000
DTEND;TZID=Europe/Madrid:20250924T170000
DTSTAMP:20260424T043517
CREATED:20250723T115129Z
LAST-MODIFIED:20250723T115129Z
UID:9653-1758700800-1758733200@www.happinessandlifeacademy.com
SUMMARY:
DESCRIPTION:Experiencia 1 del Ciclo “Volver a mí”\nSILENCIAR LA TORMENTA\, Del ruido mental a la presencia: el arte de volver al cuerpo y al alma\n❓ ¿Hace cuánto no escuchás ni tu respiración?\n¿Vivís en piloto automático\, corriendo de un compromiso al otro\, sintiendo que algo te arrastra… pero no sabés bien qué?¿Dormís pero no descansás? ¿Lográs pero no te sentís plena?¿Y si el estrés no fuera “parte de la vida moderna”\, sino un síntoma de que te has alejado de vos? \nEste encuentro no es una técnica más de relajación.Es un acto sagrado de regreso al cuerpo\, al presente y al alma.Una pausa consciente para desarmar la tormenta y volver a tu centro. \n👣 Conducido por\nMónica Grossoni\, Psicóloga transpersonal\, mentora y guía personal en procesos de transformación profunda.Creadora del ciclo “Volver a mí”. Te acompaña en esta experiencia íntima con presencia\, calidez y visión integradora. \n🎯 Objetivo\nLiberarte del estado de alerta crónico\, calmar la mente y reconectar con tu eje interno.Volver a tu cuerpo como hogar. Volver al silencio como medicina. \n👤 ¿Para quién es?\n✔️ Para mujeres y almas sensibles que se sienten desbordadas o desconectadas de sí mismas✔️ Para quienes viven desde la exigencia\, la sobrecarga o el control✔️ Para quienes sienten que necesitan parar… y no saben cómo hacerlo solas \n✨ ¿Qué te llevas?\n✔️ Prácticas simples pero profundas para regular tu sistema nervioso✔️ Herramientas de respiración consciente y anclaje corporal✔️ Una visualización poderosa para reconectar con tu alma como hogar✔️ Un espacio de presencia donde ser y sentir sin exigencias \n📚 Contenidos vivenciales\nDuración: 2h30min aprox. \n🟢 Respiración\,  Anclaje corporal\,  Visualización guiada \nCódigo de integración:🌬️ “En el silencio\, me vuelvo real.” \n💌 Reserva tu lugar 👇 aqui abajo impresncindible\nInversión: 70€ por una experiencia única💞 Promo especial:— Si te traes a una amiga → 2×1— Si compras el Full Pass del ciclo → solo 25€ esta experiencia— ¿Traes más de una amiga? Escribenos y te contamos sobre el Plan de Embajadoras \n📲 Consultas y reservas por WhatsApp: [621 066 476]👇 Plazas limitadas. Reservá tu lugar desde aquí: \n👉
URL:https://www.happinessandlifeacademy.com/evento/9653/
CATEGORIES:Sesiones de descubrimiento
END:VEVENT
BEGIN:VEVENT
DTSTART;TZID=Europe/Madrid:20250924T193000
DTEND;TZID=Europe/Madrid:20250924T220000
DTSTAMP:20260424T043517
CREATED:20250723T154919Z
LAST-MODIFIED:20250723T205505Z
UID:9689-1758742200-1758751200@www.happinessandlifeacademy.com
SUMMARY:Masterclass Gratuita de Descubrimiento “Renacer del Estrés Crónico: El Camino de Regreso a Ti Mism@
DESCRIPTION:🌿 Masterclass Gratuita de Descubrimiento\n“Renacer del Estrés Crónico: El Camino de Regreso a Ti Mism@”\n⚡ ¿Sientes que vives en modo “supervivencia”?\nTu cuerpo\, tu mente y tu alma lo saben. Y te están pidiendo un cambio. \n❝El estrés crónico no es una señal de debilidad\, es una llamada del alma que grita: ¡conéctate conmigo!❞\n— Mónica Grossoni\, Psicóloga Transpersonal \n💡 En esta masterclass vas a descubrir:\n✅ Por qué no logras relajarte ni cuando puedes hacerlo\n✅ Las raíces invisibles del estrés crónico desde el modelo transpersonal y holistico: trauma\, hiperexigencia y desconexión interior\n✅ Cómo el cuerpo habla a través del agotamiento\, el insomnio\, la ansiedad y las enfermedades\n✅ La verdadera razón por la que te cuesta disfrutar\, parar o decir que no\n✅ Cómo transformar el estrés en un puente hacia tu propósito y bienestar real \n✨ Ideal para ti si…\n\nTe despiertas ya cansad@\, aunque hayas dormido. Tienes una lista interminable de tareas\, pero sientes que “nunca es suficiente”.\nTu cabeza no para\, incluso en silencio.\nHas probado de todo\, pero el malestar sigue ahí…\nIntuyes que hay algo más profundo que aún no has explorado.\n\n💫 Esta masterclass es un primer paso hacia el programa completo:\nRenacer del Estrés Crónico\nUn proceso de transformación que combina neurociencia\, psicología transpersonal y sanación emocional para ayudarte a reconectar contigo\, tu paz\, tu cuerpo y tu verdad. \n🎤 Conduce: Mónica Grossoni\nPsicóloga Transpersonal | Especialista en Estrés Crónico | Acompañante de procesos de sanación profunda\n+20 años de experiencia ayudando a profesionales\, líderes y personas sensibles a reconectar con su bienestar esencial.\n📅 Reserva tu plaza gratuita:\n🗓️ Fecha: Septiembre 2025\n🕒 Hora: 19;30 h -10:00 h\n💻 Modalidad: Online en vivo por Zoom\n🎁 BONUS: Meditación + Guía descargable “Mapa emocional del estrés crónico” \n👉 Reserva tu plaza aqui abajo: \n📌 Plazas limitadas (grupo reducido para experiencia íntima y personalizada) \n❤️ «No necesitas seguir sobreviviendo en automático. Puedes renacer desde otro lugar.» \nNos vemos dentro\,\nMónica ✨
URL:https://www.happinessandlifeacademy.com/evento/masterclass-gratuita-de-descubrimiento-renacer-del-estres-cronico-el-camino-de-regreso-a-ti-mism/
CATEGORIES:Demostración y Descubrimiento,Sesiones de descubrimiento
ATTACH;FMTTYPE=image/jpeg:https://www.happinessandlifeacademy.com/wp-content/uploads/2024/12/pexels-olly-762020-scaled.jpg
END:VEVENT
END:VCALENDAR