BEGIN:VCALENDAR
VERSION:2.0
PRODID:-//Happiness And Life Academy - ECPv6.15.18//NONSGML v1.0//EN
CALSCALE:GREGORIAN
METHOD:PUBLISH
X-ORIGINAL-URL:https://www.happinessandlifeacademy.com
X-WR-CALDESC:Eventos para Happiness And Life Academy
REFRESH-INTERVAL;VALUE=DURATION:PT1H
X-Robots-Tag:noindex
X-PUBLISHED-TTL:PT1H
BEGIN:VTIMEZONE
TZID:Europe/Madrid
BEGIN:DAYLIGHT
TZOFFSETFROM:+0100
TZOFFSETTO:+0200
TZNAME:CEST
DTSTART:20240331T010000
END:DAYLIGHT
BEGIN:STANDARD
TZOFFSETFROM:+0200
TZOFFSETTO:+0100
TZNAME:CET
DTSTART:20241027T010000
END:STANDARD
BEGIN:DAYLIGHT
TZOFFSETFROM:+0100
TZOFFSETTO:+0200
TZNAME:CEST
DTSTART:20250330T010000
END:DAYLIGHT
BEGIN:STANDARD
TZOFFSETFROM:+0200
TZOFFSETTO:+0100
TZNAME:CET
DTSTART:20251026T010000
END:STANDARD
BEGIN:DAYLIGHT
TZOFFSETFROM:+0100
TZOFFSETTO:+0200
TZNAME:CEST
DTSTART:20260329T010000
END:DAYLIGHT
BEGIN:STANDARD
TZOFFSETFROM:+0200
TZOFFSETTO:+0100
TZNAME:CET
DTSTART:20261025T010000
END:STANDARD
END:VTIMEZONE
BEGIN:VEVENT
DTSTART;TZID=Europe/Madrid:20250426T103000
DTEND;TZID=Europe/Madrid:20250426T133000
DTSTAMP:20260421T141408
CREATED:20250411T112223Z
LAST-MODIFIED:20250411T112223Z
UID:9153-1745663400-1745674200@www.happinessandlifeacademy.com
SUMMARY:Workshop: "Redescubriendo el Sentido y Propósito en la Vida Moderna”
DESCRIPTION:Workshop: «Redescubriendo el Sentido y Propósito en la Vida Moderna”\nEn la vorágine de la vida urbana\, muchos experimentamos un malestar interior difuso: una sensación de vacío\, desconexión y falta de propósito. A pesar de cumplir con las expectativas sociales y alcanzar logros materiales\, persiste una insatisfacción que nos paraliza y deprime. Este taller es una invitación a explorar las raíces de ese malestar y a emprender un viaje introspectivo hacia nuestra verdad interior\, buscando reconectar con nuestro propósito y sentido de vida. En realidad es una buena señal\, has escuchado el llamado. Empiezas a cuestionártelo todo y te ves como un bicho raro. Sientes que ya no encajas\, y la vida empieza a no encajarte a ti. \nVamos a entender cómo reconectarse con uno mismo desde el malestar interior que nos produce la vida moderna actual. Vamos a indagar como la respuesta a esto está en profundizar\, en cavar más\, dentro de uno… de buscar ese santo grial\, que es uno mismo\, tu verdad interior….. ésto es una llamada a la necesidad de despertar la consciencia. \nPara ello\,  vamos a comprender como se relacionan los conceptos de anhedonia\, vacío existencial\, vs sentido y propósito\, la desconexión de sí mismo\, sobrecarga estimular constante\, soledad\, y depresión. Entendiendo la depresión como el resultado de la sobre exigencia del entorno y soledad. \nLa verdadera transformación no es escapar del mundo\, sino dominarlo desde dentro. A través de una serie de iniciaciones espirituales\, se invita al aprendiz a cuestionar la realidad\, liberar ilusiones y encontrar la presencia divina dentro de sí mismo. \n🎯 Objetivos de la Sesión \n\nComprender cómo conceptos como anhedonia\, vacío existencial\, sobrecarga sensorial y desconexión de uno mismo se interrelacionan en la vida moderna.\nExplorar cómo la vida urbana y las exigencias sociales contribuyen al malestar interior y la sensación de vacío.\nIniciar un proceso de autoconocimiento y despertar de la conciencia para redescubrir nuestro propósito vital y nuestra verdad interior.\n\nDirigido a: \nPersonas interesadas en explorar cómo reconectarse con uno mismo desde el malestar interior que nos produce la vida moderna actual. \nContenidos y Dinámicas \n\nIntroducción:  Análisis de los factores que contribuyen al malestar interior en la vida modera.\nDinámicas Corporales: Ejercicios de expresión corporal\, ritmo y movimiento para reconectar con nuestras sensaciones físicas\nTécnicas de Clown y Gestualidad: Actividades lúdicas para explorar nuestras máscaras sociales y fomentar la autenticidad.\nArte y Creatividad: Uso del arte como medio de expresión y autoconocimiento.\nReflexión Guiada: Espacios de introspección para identificar nuestras verdaderas necesidades y deseos.\n\n🌈 Beneficios de Participar \n\nMayor comprensión de las causas del malestar interior y cómo abordaras.\nHerramientas prácticas para reconectar con uno mismo y fomentar el bienestar emocional.\nFortalecimiento de la autenticidad y la expresión genuina.\nInicio de un camino hacia el despertar de la conciencia y la reconexión con el propósito vial.\n\n📅 Detalles del Workshop \n\nDuración: 3 horas\nFacilitado: Mónica Grossoni\, psicóloga transpersonal\nFecha y Hora: 10:30 – 13:30 h sábado mayo -junio\nLugar: [Ubicación del taller]\nInversión: 70 €\n\n🚀 ¡Inscríbete Ahora! \nNo dejes pasar la oportunidad de emprender este viaje hacia tu interior\, reconectar con tu esencia y redescubrir el propósito que da sentido a tu vida. Este taller es el primer paso hacia una transformación profunda y consciente. \n👉 Reserva aquí abajo tu lugar hoy y comienza el camino hacia una vida más plena y auténtica. 📲  Preguntas y abonos por WhatsApp 621 066 476 \n#DespertarConsciente #Autoconocimiento #PropósitoDeVida #BienestarEmocional #TallerTransformacional #VidaConSentido
URL:https://www.happinessandlifeacademy.com/evento/workshop-redescubriendo-el-sentido-y-proposito-en-la-vida-moderna-2/
CATEGORIES:Workshops express
ATTACH;FMTTYPE=image/jpeg:https://www.happinessandlifeacademy.com/wp-content/uploads/2024/12/Una-hermosa-mujer-de-35-anos-morena-pensando-mirandose-al-espejo.jpeg
END:VEVENT
BEGIN:VEVENT
DTSTART;TZID=Europe/Madrid:20250427T100000
DTEND;TZID=Europe/Madrid:20250427T140000
DTSTAMP:20260421T141408
CREATED:20250402T110803Z
LAST-MODIFIED:20250508T093316Z
UID:9110-1745748000-1745762400@www.happinessandlifeacademy.com
SUMMARY:Workshop Explorando mis obstáculos y desafíos hacia la Autenticidad
DESCRIPTION:Mapeando nuestras experiencias:Un camino hacia la autoconciencia y la autenticidad.\nEn la travesía hacia la autenticidad\, a menudo nos encontramos atrapados en patrones y comportamientos que no reflejan nuestra verdadera esencia. Estas «máscaras del ego» actúan como barreras que nos impiden vivir plenamente y conectar genuinamente con nosotros mismos y con los demás. Reconocer y comprender estas máscaras es esencial para liberar nuestro potencial y alcanzar una vida más auténtica y satisfactoria. \nEl objetivo del workshop es una primera aproximación a mis máscaras del ego. Explorando y creando un mapa interior de mis patrones emocionales inconscientes y de las formas en que me saboteo la vida. Qué los dice la psicologia transpersonal sobre mis aprendizajes maestros en esta vida. ¿Qué ha elegido aprender mi alma en esta encarnación?.  \nObjetivo 1: una primera aproximación a la exploración e identificación de mis obstáculos interiores que me impiden ser yo mismo: Las máscaras del ego. \nObjetivo 2: Crear un mapa interior preliminar que ubique  mis condicionamientos inconscientes que constituyen las máscaras de mi ego\, que me impiden ser “mi autentico ser” mi autenticidad. A modo de brújula que identifique mis desafíos personales. \nObjetivo 3: Darme cuenta por primera vez de mis patrones automáticos que me condicionan y me sabotean la vida y de cómo puedo superarlos mediante educación emocional y espiritual; que me permitiran adquirir los aprendizajes maestros que he venido a obtener. \nNunca se ha levantado un mapa tan completo que lo abarca prácticamente TODO. La adversidad como escenario de aprendizaje y consciencia. Hoy vamos a sacarle beneficio a la adversidad. Situaciones de aprendizaje más frecuentes: Estrés y burnout; Síndrome del impostor; Relación con el dinero\, éxito y abundancia; Mandatos familiares: creencias auto-saboteadoras; Memorias perinatales; Heridas y traumas de la infancia; Vacío existencial y propósito (Ikigai); Anhedonia; Sobre estimulación y sobrecarga sensorial (Personas Altamente Sensibles – PAS); Proyecto Sentido; Lealtades Familiares Mal Entendidas; Estereotipos\, vs arquetipos universales. Los roles vitales. Lo masculino\, lo femenino;Contrato espiritual; Los aprendizajes vitales: a través de las relaciones como espejo y las situaciones de adversidad. \nDirigido a: Este workshop está diseñado para personas que: \n\nSienten que no están viviendo de acuerdo con su verdadero yo y desean explorar las las razones detrás de esta desconexión.​\nExperimentan patrones repetitivos de autosabotaje y buscan herramientas para identificarlos y superarlos.​\nDesean profundizar en su autoconocimiento\, explorando los condicionamientos inconscientes que influyen en su comportamiento y decisiones.​\nEstán en un proceso de cambio o reinvención personal o profesional y quieren asegurarse de hacerlo desde una base auténtica y consciente.\nBuscan mejorar su inteligencia emocional y espiritual\, desarrollando una mayor comprensión y gestión de sus emociones y creencias.\n\nBeneficios de realizar este workshop. Al participar en este taller\, obtendrás: \n\nMayor autoconciencia: Identificarás las máscaras del ego que has adoptado y comprenderás cómo afectan tu vida diaria y tus relaciones.​ Vas a generar un mapa de mis obstáculos interiores (las máscaras del ego) y mis desafíos de mejora.\nHerramientas prácticas: Conoceras algunas técnicas de educación emocional y espiritual para desmantelar patrones de autosabotaje y fomentar comportamientos más alineados con tu auténtico ser.​\nClaridad en tus motivaciones: Explorarás las razones profundas detrás de tus decisiones y acciones\, asegurándote de que estén en sintonía con tus valores y propósito de vida.​\nFortalecimiento de la autenticidad: Al liberar las barreras internas\, podrás expresarte de manera más genuina y construir relaciones más auténticas y satisfactorias.​\nEmpoderamiento personal: Al comprender y superar tus condicionamientos inconscientes\, ganarás confianza y claridad para enfrentar desafíos y aprovechar nuevas oportunidades en tu vida personal y profesional.\n\nDuración 4 horas \nTe ofrece un espacio seguro y enriquecedor para iniciar el viaje hacia una vida más auténtica\, consciente y plena. ¡Te invitamos a dar este paso transformador hacia el descubrimiento de tu verdadero yo! \n¿Estás listo para iniciar un viaje transformador hacia tu autenticidad? Te invitamos a participar en nuestro workshop «Explorando mis obstáculos y desafíos hacia la Autenticidad»\, una experiencia única diseñada para ayudarte a descubrir y superar las máscaras del ego que te impiden ser tu verdadero yo. \nDetalles del workshop: \n\nFecha y hora: 24 Sábado de abril de 10:00 a 14:00 h\nDuración: 4 horas\nLugar: Pendiente de confirmar\nImpartido y diseñado por Mónica Grossoni. Psicóloga transpersonal.\n\nInversión: 85 € (Abono en la puerta). \nOferta especial: ¡Comparte esta experiencia con un amigo\,a y ambos recibirán un 30 % descuento!​ \nReserva tu plaza ahora y da el primer paso hacia una vida más auténtica y plena. Las plazas son limitadas\, así que asegúrate de asegurar la tuya y la de tu amigo hoy mismo.​ \nAnotate aqui abajo  \n📲 ¿Quieres atención directa y prioritaria? Escríbeme por WhatsApp 👉 (34) 612 066 476 621 066 476.
URL:https://www.happinessandlifeacademy.com/evento/workshop-explorando-mis-obstaculos-y-desafios-hacia-la-autenticidad/
CATEGORIES:Workshops express
ATTACH;FMTTYPE=image/jpeg:https://www.happinessandlifeacademy.com/wp-content/uploads/2025/02/pexels-cottonbro-5966321-scaled.jpg
END:VEVENT
END:VCALENDAR