BEGIN:VCALENDAR
VERSION:2.0
PRODID:-//Happiness And Life Academy - ECPv6.15.18//NONSGML v1.0//EN
CALSCALE:GREGORIAN
METHOD:PUBLISH
X-WR-CALNAME:Happiness And Life Academy
X-ORIGINAL-URL:https://www.happinessandlifeacademy.com
X-WR-CALDESC:Eventos para Happiness And Life Academy
REFRESH-INTERVAL;VALUE=DURATION:PT1H
X-Robots-Tag:noindex
X-PUBLISHED-TTL:PT1H
BEGIN:VTIMEZONE
TZID:Europe/Madrid
BEGIN:DAYLIGHT
TZOFFSETFROM:+0100
TZOFFSETTO:+0200
TZNAME:CEST
DTSTART:20240331T010000
END:DAYLIGHT
BEGIN:STANDARD
TZOFFSETFROM:+0200
TZOFFSETTO:+0100
TZNAME:CET
DTSTART:20241027T010000
END:STANDARD
BEGIN:DAYLIGHT
TZOFFSETFROM:+0100
TZOFFSETTO:+0200
TZNAME:CEST
DTSTART:20250330T010000
END:DAYLIGHT
BEGIN:STANDARD
TZOFFSETFROM:+0200
TZOFFSETTO:+0100
TZNAME:CET
DTSTART:20251026T010000
END:STANDARD
BEGIN:DAYLIGHT
TZOFFSETFROM:+0100
TZOFFSETTO:+0200
TZNAME:CEST
DTSTART:20260329T010000
END:DAYLIGHT
BEGIN:STANDARD
TZOFFSETFROM:+0200
TZOFFSETTO:+0100
TZNAME:CET
DTSTART:20261025T010000
END:STANDARD
END:VTIMEZONE
BEGIN:VEVENT
DTSTART;TZID=Europe/Madrid:20250506T193000
DTEND;TZID=Europe/Madrid:20250506T203000
DTSTAMP:20260421T124638
CREATED:20240923T181349Z
LAST-MODIFIED:20240923T181416Z
UID:8057-1746559800-1746563400@www.happinessandlifeacademy.com
SUMMARY:Los Libros que Inspiran
DESCRIPTION:? Evento Online: «Los Libros que Inspiran» ?\n¿Alguna vez un libro te ha cambiado la vida? ?\nEsos libros que te sacuden el alma\, te acompañan en momentos oscuros y te llenan de fuerza cuando más lo necesitas. Cuando el estrés\, el vacío existencial o la confusión te atrapan\, a veces una sola página puede darte la claridad para seguir adelante. \nEn «Los Libros que Inspiran» queremos: ✨ Compartir esas lecturas que nos han marcado el camino. ✨ Descubrir cómo la sabiduría de otros autores ha sido una luz en momentos de incertidumbre. ✨ Conectar con personas que\, como tú\, buscan la inspiración en las palabras. \nEl martes a las 19:00 nos reunimos en Zoom para hablar de esas obras que nos han ayudado a superar crisis\, encontrar sentido y abrir nuevas puertas cuando todo parecía cerrado. ?✨ \n? ¿Tienes un libro que te ha inspirado profundamente? ¡Trae tu historia y vamos a nutrirnos de grandes ideas! \nPide enlace Zoom aqui (34) 621 066 476 \n#LibrosQueInspiran #SuperarElEstrés #CrecimientoPersonal #HappinessAndLifeAcademy #SabiduríaEntrePáginas #MónicaGrossoni
URL:https://www.happinessandlifeacademy.com/evento/los-libros-que-inspiran-4/
END:VEVENT
BEGIN:VEVENT
DTSTART;TZID=Europe/Madrid:20250510T103000
DTEND;TZID=Europe/Madrid:20250510T133000
DTSTAMP:20260421T124638
CREATED:20250402T120352Z
LAST-MODIFIED:20250508T093018Z
UID:9117-1746873000-1746883800@www.happinessandlifeacademy.com
SUMMARY:Workshop: "Reconecta con tu Cuerpo y Ser Interior de Cara al Verano"
DESCRIPTION:Tras un invierno marcado por lluvias y escasas oportunidades para disfrutar de la naturaleza\, es común sentirse desconectado\, desmotivado o incluso experimentar una disminución en la capacidad de disfrutar de las actividades cotidianas\, conocida como anhedonia . La llegada del buen tiempo nos brinda la oportunidad perfecta para revitalizar nuestros sentidos y fortalecer la conexión con nuestro cuerpo y mente. \nEste taller de 3 horas está diseñado para facilitar esa reconexión personal y fomentar la creación de vínculos significativos dentro de una comunidad consciente\, promoviendo el crecimiento personal y colectivo. \nObjetivos del Evento: \n\nReconectar con el Cuerpo: Fomentar la conciencia corporal a través de prácticas que integran movimiento y respiración consciente.\nDespertar los Sentidos: Explorar y revitalizar los sentidos mediante actividades sensoriales en contacto directo con la naturaleza.\nFortalecer Vínculos Comunitarios: Establecer conexiones auténticas con otros participantes\, creando una red de apoyo y crecimiento mutuo.\n\nContenidos de la Exploración: \n\nEjercicios de Movimiento Consciente: Prácticas suaves que promueven la flexibilidad y la conexión con el cuerpo.\nActividades Sensoriales al Aire Libre: Experiencias diseñadas para estimular y agudizar los sentidos en un entorno natural.\nTécnicas de Respiración y Meditación: Herramientas para centrar la mente y reducir el estrés\, facilitando una mayor claridad mental.\nDinámicas de Grupo: Espacios de compartir y reflexión para integrar las experiencias vividas durante el taller.\n\nBeneficios de Asistir: \n\nRenovación Energética: Recargarás tu vitalidad al sincronizarte con el ritmo natural del entorno.\nMayor Conciencia Corporal: Desarrollarás una relación más íntima y respetuosa con tu cuerpo.\nReducción del Estrés: Aprenderás técnicas efectivas para gestionar la ansiedad y promover la calma interior.\nClaridad Mental: Al calmar la mente\, podrás tomar decisiones más alineadas con tu bienestar.\nConexión con la Naturaleza: Fortalecerás tu vínculo con el entorno natural\, fomentando una sensación de pertenencia y equilibrio.\nAmpliación de tu Red de Contactos: Conocerás a personas afines\, creando oportunidades para establecer relaciones significativas y colaboraciones futuras.​\nSentido de Pertenencia: Formarás parte de una comunidad de personas comprometidas con su desarrollo personal y colectivo.\n\nDirigido a: \n\nPersonas que buscan reconectar consigo mismas y con la naturaleza.\nIndividuos interesados en prácticas de meditación y bienestar integral.\nAquellos que experimentan anhedonia o una disminución en la capacidad de disfrutar de las actividades cotidianas y buscan herramientas para revitalizar su bienestar emocional.\nCualquier persona que anhele un espacio de pausa y renovación en su rutina diaria.\nQuienes desean ampliar su círculo social con personas conscientes y afines.\n\nDetalles del Evento: \n\nFecha y Hora: 10 Mayo  y 14 junio 10:30 AM – 13:30 AM\nDuración: 3 horas\nLugar: Parque del Retiro\, y otro por determinar.\nInversión: 85€\nImpartido por: Mónica Grossoni\, psicóloga transpersonal y fundadora de Happiness and Life Academy. Con amplia experiencia en la transformación del estrés en crecimiento personal y en la reconexión con el ser interior.\n\n¡Reserva tu Plaza Ahora aqui abajo. Da el Primer Paso hacia una Conexión Profunda Contigo Mismo! \nNo dejes pasar esta oportunidad única de revitalizar tu cuerpo y mente en armonía con la naturaleza. Las plazas son limitadas para garantizar una experiencia personalizada y enriquecedora. Inscríbete hoy mismo y prepárate para recibir el verano con una renovada sensación de bienestar y plenitud. \n📲 ¿Quieres atención directa y prioritaria? Escríbeme por WhatsApp 👉 (34) 612 066 476
URL:https://www.happinessandlifeacademy.com/evento/workshop-reconecta-con-tu-cuerpo-y-ser-interior-de-cara-al-verano/
CATEGORIES:Bienestar emocional,Workshops express
ATTACH;FMTTYPE=image/jpeg:https://www.happinessandlifeacademy.com/wp-content/uploads/2023/03/pexels-leah-kelley-325521.jpg
END:VEVENT
BEGIN:VEVENT
DTSTART;TZID=Europe/Madrid:20250513T193000
DTEND;TZID=Europe/Madrid:20250513T210000
DTSTAMP:20260421T124638
CREATED:20250429T211255Z
LAST-MODIFIED:20250508T092844Z
UID:9364-1747164600-1747170000@www.happinessandlifeacademy.com
SUMMARY:Liderar desde otro lugar: desde tu autenticidad\, sin estrés siendo consciente.
DESCRIPTION:Ya lo lograste todo… pero algo te falta.\nCuando el éxito no es suficiente: empieza el viaje hacia ti.\nLiderar desde tu autenticidad… ¿y si ahí estuviera tu verdadero poder?\nEl Santo Grial no está fuera. Eres tú.\n\nUna experiencia para líderes que se sienten abrumados\, desconectados\, y listos para reinventar su vida y propósito desde un nuevo nivel de consciencia.\nConversaciones desde el umbral \nLos lideres del sigo 21 están alineados con su propósito\, son éticos. Trabajan y manejan un negocio sin matarse trabajando. No buscan dinero y poder\, sino la satisfaccion de un trabajo bien hecho que contriye a un bien mayor.\nHas construido una carrera.Has alcanzado metas que antes parecían imposibles.Desde fuera\, todo parece en orden.Pero dentro… hay ruido. Falta algo. \nQuizás te sientes estresado\, sin rumbo claro.Quizás lideras en automático\, sobreviviendo más que viviendo.Quizás te cuesta disfrutar\, encontrar propósito o sentir que esto tiene sentido. \nLo que estás viviendo no es un fracaso. Es una llamada profunda.Una invitación a soltar la máscaras y patrones inconscientes\, y reconectar con tu autenticidad.No necesitas más títulos. Necesitas volver a ti.\n✨ ¿Para quién es esta conversación desde el umbral?\nPara ti\, si eres un líder\, emprendedor o profesional de alto rendimiento que: \n\nEstá sobrepasado por la presión y el estrés.\nSiente un vacío\, aunque “tenga todo”.\nIntuye que hay otra forma de vivir y liderar\, más coherente con su esencia.\nDesea reinventarse\, pero no desde la mente… sino desde la consciencia.\n\n🌱 Lo que descubrirás:\n\nLas causas ocultas del malestar interior\, de esa anhedonia en líderes de alto rendimiento.\nPor qué las respuestas habituales (más control\, más productividad\, más mindfulness) son insuficientes.\nEl verdadero origen del vacío que sientes.\nEl camino hacia una nueva forma de liderar\, más humana\, más libre\, más tuya.\nCómo comenzar un proceso profundo de reinvención con acompañamiento.\n\n💬 Testimonios\n«Nunca pensé que un espacio así me conectaría tanto conmigo. No ha sido ruido motivacional\, ha sido silencio revelador.» – Director financiero\, multinacional«No sabía que estaba tan desconectada. Ahora lidero con más presencia\, y curiosamente\, con menos esfuerzo.» – Fundadora\, empresa de impacto social \n📅 Detalles de la sesión:\n🗓 Fecha:  13 de Mayo 2025🕕 Hora: 19:30h (Madrid)📍 Online por Zoom – Gratuito🎯 Plazas limitadas \n💌 No se trata de cambiar quién eres.Se trata de recordar quién fuiste antes de ponerte todas esas capas.\nBienvenido al viaje de vuelta a casa.Bienvenido a ti.\nReserva tu plaza aqui abajo \n📲 ¿Quieres atención directa y prioritaria? Escríbeme por WhatsApp 👉 (34) 612 066 476
URL:https://www.happinessandlifeacademy.com/evento/liderar-desde-otro-lugar-liderazgo-consciente/
CATEGORIES:Conversaciones en el umbral
ATTACH;FMTTYPE=image/jpeg:https://www.happinessandlifeacademy.com/wp-content/uploads/2025/04/Equipo-espanol.jpeg
END:VEVENT
BEGIN:VEVENT
DTSTART;TZID=Europe/Madrid:20250528T193000
DTEND;TZID=Europe/Madrid:20250528T210000
DTSTAMP:20260421T124638
CREATED:20250429T210223Z
LAST-MODIFIED:20250506T140114Z
UID:9361-1748460600-1748466000@www.happinessandlifeacademy.com
SUMMARY:Redefine el liderazgo femenino desde la consciencia y la autenticidad
DESCRIPTION:Una experiencia transformadora para mujeres líderes que están cansadas de hacerlo todo solas\, de vivir estresadas\, atrapadas en exigencias\, y que desean crecer junto a otras mentes inquietas.Reinvéntate desde tu autenticidad… sin renunciar a tu poder.\n🔹 ¿PARA QUIÉN ES ESTA SESIÓN?\n✔️ Eres empresaria\, emprendedora o lideras equipos… y sientes que el peso que cargas es excesivo.✔️ Has probado muchas cosas (coaching\, mindfulness\, productividad) pero el vacío interno sigue ahí.✔️ Intuyes que algo más profundo se está moviendo dentro de ti\, pero no sabes cómo nombrarlo.✔️ Buscas una forma distinta de liderar\, vivir y relacionarte con tu mundo.✔️ Te ilusiona crecer junto a otras mujeres que\, como tú\, son mentes inquietas en busca de una vida con sentido. \n🔹 LO QUE TE LLEVAS EN ESTA SESIÓN\n🌱 Una comprensión clara de los patrones inconscientes que sostienen tu autosabotaje.💡 Cómo se manifiestan en el liderazgo\, las relaciones\, y tu forma de hacer negocio.🔥 Herramientas para empezar a salir del modo “supervivencia” sin perder eficacia.💫 Un espacio íntimo\, cuidado y seguro para reconectar contigo y con otras mujeres que están en el mismo viaje. \n🔹 CRECER JUNTAS EN COMUNIDAD\nEsta sesión no es solo para aprender: es el punto de partida para crecer en un circulo de mentes inquietas\, con mujeres líderes que también están cuestionándolo todo.Bienvenida a El Círculo de Mentes Inquietas\, donde el liderazgo nace de la autenticidad. \n🔹 DATOS PRÁCTICOS\n🗓️ Miércoles 28 de Mayo 2025🕕 19:30 (hora Madrid)📍 Vía Zoom – acceso gratuito con registro \n¿Qué te gustaría descubrir en esta sesión? \n🔹 QUIÉN GUÍA LA SESIÓN\n👩 Mónica Grossoni – Psicóloga transpersonal y fundadora de Happiness and Life Academy.Acompaño a mujeres líderes en su transición del éxito exterior al éxito interior\, desde la autenticidad y la consciencia. Sin máscaras. Sin exigencias. Con alma. \n🔹 BONUS POR ASISTIR\n🎁 Llévate el PDF exclusivo:“3 errores que te mantienen atrapada en el estrés… sin darte cuenta”
URL:https://www.happinessandlifeacademy.com/evento/redefine-el-liderazgo-femenino-desde-la-consciencia-y-la-autenticidad/
CATEGORIES:Conversaciones en el umbral
ATTACH;FMTTYPE=image/jpeg:https://www.happinessandlifeacademy.com/wp-content/uploads/2025/04/Gemini_Generated_Image_fj6shvfj6shvfj6s.jpeg
END:VEVENT
BEGIN:VEVENT
DTSTART;TZID=Europe/Madrid:20250531T103000
DTEND;TZID=Europe/Madrid:20250531T133000
DTSTAMP:20260421T124638
CREATED:20250410T211332Z
LAST-MODIFIED:20250411T120731Z
UID:9137-1748687400-1748698200@www.happinessandlifeacademy.com
SUMMARY:workshop "Redescubriendo el Sentido y Propósito en la Vida Moderna"
DESCRIPTION:¿Te sientes atrapado en la rutina diaria\, cumpliendo metas que no llenan tu alma? ¿Experimentas una desconexión contigo mismo a pesar de haber alcanzado logros materiales? Es momento de detenerte y mirar hacia adentro.​ \nTe invitamos a una experiencia transformadora de 3 horas donde exploraremos cómo la vida urbana y sus exigencias pueden llevarnos a la anhedonia\, el vacío existencial y la desconexión personal. A través de actividades dinámicas y reflexivas\, iniciaremos un viaje hacia el autodescubrimiento y la reconexión con nuestro propósito vital. \n🎯 Objetivos de la Sesión\n\nComprender cómo la sobrecarga sensorial y las expectativas sociales pueden generar desconexión y vacío interior.​\nExplorar la relación entre anhedonia\, soledad y falta de propósito en la vida moderna.​\nIniciar un proceso de introspección para redescubrir tu verdad interior y sentido de vida.\n\n🌈 Beneficios de Participar\n\nMayor claridad sobre tus emociones y necesidades personales.​\nHerramientas prácticas para manejar la sobrecarga emocional y el estrés.​\nReforzamiento de la autoestima y la confianza en ti mismo.​\nEstablecimiento de conexiones significativas con otros participantes\n\n🧭 Contenidos Generales\n\nReflexión guiada sobre el impacto de la vida urbana en nuestro bienestar emocional.​\nActividades artísticas para expresar y comprender nuestro mundo interior.​\nEjercicios de movimiento consciente para reconectar con nuestro cuerpo y emociones.​\nDinámicas grupales para fomentar la conexión y el apoyo mutuo.\n\n📅 Detalles de la Sesión\n\nFecha: 31Mayo 2025  Hora: 10: 30 a 13:30​\nLugar: Pendiente de ubicación\, será en Madrid\nDuración: 3 horas \nFacilitador: Monica Grossoni​\nInversión: 70 €​
URL:https://www.happinessandlifeacademy.com/evento/workshop-redescubriendo-el-sentido-y-proposito-en-la-vida-moderna/
CATEGORIES:Workshops express
ATTACH;FMTTYPE=image/jpeg:https://www.happinessandlifeacademy.com/wp-content/uploads/2024/01/pexels-andrea-piacquadio-3673941-scaled.jpg
END:VEVENT
END:VCALENDAR