BEGIN:VCALENDAR
VERSION:2.0
PRODID:-//Happiness And Life Academy - ECPv6.15.18//NONSGML v1.0//EN
CALSCALE:GREGORIAN
METHOD:PUBLISH
X-ORIGINAL-URL:https://www.happinessandlifeacademy.com
X-WR-CALDESC:Eventos para Happiness And Life Academy
REFRESH-INTERVAL;VALUE=DURATION:PT1H
X-Robots-Tag:noindex
X-PUBLISHED-TTL:PT1H
BEGIN:VTIMEZONE
TZID:Europe/Madrid
BEGIN:DAYLIGHT
TZOFFSETFROM:+0100
TZOFFSETTO:+0200
TZNAME:CEST
DTSTART:20240331T010000
END:DAYLIGHT
BEGIN:STANDARD
TZOFFSETFROM:+0200
TZOFFSETTO:+0100
TZNAME:CET
DTSTART:20241027T010000
END:STANDARD
BEGIN:DAYLIGHT
TZOFFSETFROM:+0100
TZOFFSETTO:+0200
TZNAME:CEST
DTSTART:20250330T010000
END:DAYLIGHT
BEGIN:STANDARD
TZOFFSETFROM:+0200
TZOFFSETTO:+0100
TZNAME:CET
DTSTART:20251026T010000
END:STANDARD
BEGIN:DAYLIGHT
TZOFFSETFROM:+0100
TZOFFSETTO:+0200
TZNAME:CEST
DTSTART:20260329T010000
END:DAYLIGHT
BEGIN:STANDARD
TZOFFSETFROM:+0200
TZOFFSETTO:+0100
TZNAME:CET
DTSTART:20261025T010000
END:STANDARD
END:VTIMEZONE
BEGIN:VEVENT
DTSTART;TZID=Europe/Madrid:20251001T193000
DTEND;TZID=Europe/Madrid:20251001T220000
DTSTAMP:20260423T185329
CREATED:20250723T204058Z
LAST-MODIFIED:20250723T205346Z
UID:9717-1759347000-1759356000@www.happinessandlifeacademy.com
SUMMARY:Experiencia 1: Silenciar la Tormenta
DESCRIPTION:Del ciclo de otoño «volver a mi «\nExperiencia 1: Silenciar la Tormenta (estrés crónico)\n¿Sientes que la tormenta mental no para?\n¿Te cuesta encontrar calma en medio del estrés constante?¿Tu cuerpo parece desconectado de ti\, y solo vives en tu cabeza? \nSi la respuesta es sí\, esta experiencia es para ti. \n“Silenciar la tormenta” no es solo un taller\, es una invitación sagrada a volver a tu centro\, a recuperar la calma y la presencia desde tu cuerpo y tu respiración. \n¿Qué vas a conseguir en esta experiencia?\n\nRecuperar la conexión con tu cuerpo\, esa brújula olvidada que siempre te guía.\nAprender a silenciar el ruido mental que te agota y desconecta.\nReconocer y transformar el estrés crónico en calma profunda.\nDominar técnicas respiratorias comprobadas para regular tu sistema nervioso.\nSentirte presente\, anclado/a en tu eje interno\, con una mente clara y un cuerpo relajado.\n\n¿Qué vamos a hacer?\nDurante 2 horas y 30 minutos\, te guiaré a través de: \n\nMeditación guiada para aterrizar en el aquí y ahora.\nExplicación sencilla sobre el estrés crónico\, la respiración y el cuerpo.\n Práctica respiratoria Buteyko adaptada para calmar el sistema nervioso.\nMovimiento consciente y estiramientos para sentir y liberar tensiones.\nAutoindagación con preguntas profundas para conectar contigo mismo/a.\nMeditación de cierre para anclar la calma y una propuesta de práctica diaria.\n\nTodo en un espacio seguro\, relajado y conectado contigo. \n¿Qué te llevas de esta experiencia?\n\nTécnicas prácticas y fáciles para usar en tu día a día que te ayudarán a silenciar la tormenta interna.\nUna guía digital con ejercicios para continuar tu práctica personal.\nUna nueva forma de relacionarte con el estrés y tu cuerpo.\nUna sensación profunda de paz y presencia.\nAcceso a un grupo de apoyo para compartir y crecer.\n\n¿Para quién es esta experiencia?\n\nPara quienes sufren estrés crónico y sienten que “no pueden más”.\nPara quienes viven desconectados/as de su cuerpo y quieren reencontrarse.\nPara profesionales\, creativos\, madres/padres\, y buscadores/as de bienestar integral.\nPara quien sabe que la calma no es un lujo\, sino una necesidad vital.\nPara ti\, que estás listo/a para transformar tu relación con el estrés y la ansiedad.\n\nSobre tu guía:\nSoy Mónica Grossoni\, psicóloga transpersonal y facilitadora experta en técnicas de respiración y reconexión corporal. Te acompañaré en este viaje hacia el silencio interno\, el equilibrio y la calma. \nReserva tu plaza ahora y comienza a silenciar tu tormenta interna\nDuración: 2h30 aprox.Modalidad: Presencial o ZoomPrecio: 70 €Oferta especial: Trae a una amiga y acceden al 2×1. Si traes más amigas\, entonces tengo algo para ti: Consulta nuestro plan embajadoras para más beneficios. WhatsApp: 621 066 476 \nFull pass todas las  8 experiencias por tan solo 250€ \n 👉 RESERVA TU PLAZA AQUÍ abajo\nNo esperes más\, transforma tu vida empezando por tu respiración. \n¿Conoces a alguien que necesita esta calma? ¡Comparte esta experiencia con esa persona especial! \n¿Dudas o preguntas?Contáctame directamente por WhatsApp: 621 066 476
URL:https://www.happinessandlifeacademy.com/evento/experiencia-1-silenciar-la-tormenta/
CATEGORIES:Demostración y Descubrimiento
ATTACH;FMTTYPE=image/jpeg:https://www.happinessandlifeacademy.com/wp-content/uploads/2025/05/pexels-matthias-cooper-1062280-scaled.jpg
END:VEVENT
BEGIN:VEVENT
DTSTART;TZID=Europe/Madrid:20251008T193000
DTEND;TZID=Europe/Madrid:20251008T213000
DTSTAMP:20260423T185329
CREATED:20250723T114048Z
LAST-MODIFIED:20250723T192806Z
UID:9650-1759951800-1759959000@www.happinessandlifeacademy.com
SUMMARY:Experiencia 2 "DUDAR DE MÍ: El mito del impostor
DESCRIPTION:💫  Experiencia 2 del Ciclo “Volver a mí”💫\n Experiencia 2 «DUDAR DE MÍ: El mito del impostor y el recuerdo de tu verdad»\n❓ ¿Y si no fuera verdad que no eres suficiente…?\n¿Y si esa voz que te dice “no eres capaz”\, “no te lo mereces”\, “te van a descubrir”…\nno fuera realmente tuya? \n¿Y si detrás del miedo a ser impostora estuviera tu alma\, esperando a que recuerdes quién eres? \nEsta experiencia no es un taller para “ganar confianza” ni para “pensar positivo”.\nEs una ceremonia íntima para desactivar las mentiras del ego y reconectar con la verdad de tu esencia. \n🎯 Objetivo\nDescubrir que hay detrás del mito del impostor\, reconociendo la distorsión del personaje y la sabiduría de tu alma. Volver a ti. Volver a verte. \n👤 ¿Para quién es?\n✔️ Para mujeres y hombres sensibles\, brillantes y conscientes… que aún dudan de su valor.\n✔️ Para las que sienten que cargan una máscara aunque “todo parezca ir bien”.\n✔️ Para almas en búsqueda de autenticidad\, propósito y una nueva forma de habitarse. \n✨ ¿Qué te llevas?\n✔️ Claridad sobre el origen profundo del síndrome del impostor\n✔️ Herramientas transpersonales para diferenciar la voz del ego y la del alma\n✔️ Un espacio seguro y amoroso donde ser tú\, sin filtros\n✔️ Reconexión con tu valor original y la memoria de tu propósito \n📚 Contenidos de la experiencia (2h30 aprox.)\n🕊️ Bienvenida y conexión inicial\nMeditación guiada para conectar con la voz interna profunda\nReconocimiento del miedo vs. la verdad del alma \n🌀 Teoría vivencial + diálogo abierto\nQué es el síndrome del impostor desde una mirada transpersonal\nHeridas invisibles que alimentan la duda\nCómo el alma habla… y cómo suele ser ignorada \n🌌 Prácticas transformadoras\n• Línea de vida espiritual: reconectar con tus momentos de verdad\n• Meditación del contrato del alma: recordar para qué viniste\n• Espacio de expresión auténtica \n🕯️ Cierre con palabra viva y anclaje de la experiencia \nGuiado por Mónica Grossoni\, psicóloga transpersonal\, experta en estrés crónico. Tu mentora y guía.\n💌 Inversión y formas de participación\n🔸 70€ – experiencia individual única\n🔸 2×1 si vienes con una amiga\n🔸 Full Pass para todo el ciclo por solo 250€ por experiencia\n🔸 ¿Te traes a más de una amiga? Pregunta por el Plan Embajadoras \n📍Reserva tu lugar ahora\nEste es un espacio íntimo y con plazas limitadas.\nHaz clic aquí abajo 👇 para reservar tu plaza\ny escríbenos directamente a WhatsApp → [621 066 476] para resolver tus dudas. \n👇 [RESERVA TU PLAZA AQUÍ  \n 
URL:https://www.happinessandlifeacademy.com/evento/experiencia-2-dudar-de-mi-el-mito-del-impostor/
CATEGORIES:Demostración y Descubrimiento,Síndrome del impostor
END:VEVENT
BEGIN:VEVENT
DTSTART;TZID=Europe/Madrid:20251008T193000
DTEND;TZID=Europe/Madrid:20251008T220000
DTSTAMP:20260423T185329
CREATED:20250723T144544Z
LAST-MODIFIED:20250723T144544Z
UID:9673-1759951800-1759960800@www.happinessandlifeacademy.com
SUMMARY:
DESCRIPTION:  \nExperiencia 8: Liderar desde la Resonancia\n“Liderar con Resonancia: descubre tu herida y el arquetipo desde el que lideras y su impacto invisible” \nDuración: 2 a 3 horas\nModalidad: Presencial o por Zoom \n\n¿Te has preguntado alguna vez por qué algunos líderes inspiran desde su presencia\, y otros solo imponen órdenes?\n¿Quieres descubrir el origen invisible de tu estilo de liderazgo?\n¿Quieres vibrar con autenticidad y dejar de liderar desde la imposición\, el ego o el miedo? \nEsta sesión es para ti si deseas un liderazgo que nazca desde el Ser\, que conecte con tu verdad profunda y que resuene en los demás como una invitación real a la transformación. \n¿Para quién es esta experiencia?\n\nPara líderes\, directivos\, profesionales y emprendedores que quieren transformar su forma de liderar.\nPara quienes están cansados del liderazgo basado en la supervivencia\, el control o el miedo.\nPara personas que quieren conectar con su herida personal como fuente de fuerza y sabiduría.\nPara quienes desean integrar la psicología transpersonal en su desarrollo profesional y personal.\n\nObjetivos:\n\nVivir el “click” de que liderar no es mandar\, sino vibrar y resonar.\nReconocer la herida y el arquetipo que configuran tu estilo de liderazgo.\nTomar conciencia del impacto invisible de tus patrones en tu equipo y entorno.\nAbrir la puerta a un liderazgo consciente\, auténtico y sanador.\n\n¿Qué te llevas?\n\nUna experiencia vivencial y profunda de autodescubrimiento.\nHerramientas para identificar tu arquetipo de liderazgo y su sombra.\nClaves para transformar tu herida en un motor de crecimiento y conexión.\nLa invitación a continuar el camino con el programa completo de Liderazgo Consciente.\nAcompañamiento experto con Mónica Grossoni\, psicóloga transpersonal\, tu mentora y guía personal.\n\nReserva tu plaza:\nInversión: 70 €\nOferta especial: Trae a una amiga y accedéis al 2×1. Consulta también el plan embajadoras para más beneficios. \n👉 Reserva aquí abajo tu plaza \n¿Dudas o más info? Escríbeme por WhatsApp al 621 066 476. \n“Lidera desde la resonancia\, no desde la supervivencia.” \n¿Estás listo para vibrar en tu verdadero poder de liderazgo?
URL:https://www.happinessandlifeacademy.com/evento/9673/
CATEGORIES:Sesiones de descubrimiento
ATTACH;FMTTYPE=image/jpeg:https://www.happinessandlifeacademy.com/wp-content/uploads/2025/07/pexels-pixabay-36843-scaled.jpg
END:VEVENT
BEGIN:VEVENT
DTSTART;TZID=Europe/Madrid:20251011T223000
DTEND;TZID=Europe/Madrid:20251011T223000
DTSTAMP:20260423T185329
CREATED:20250802T100419Z
LAST-MODIFIED:20250829T101049Z
UID:9780-1760221800-1760221800@www.happinessandlifeacademy.com
SUMMARY:Escucha lo que tu cuerpo calla
DESCRIPTION:Escucha lo que tu cuerpo calla\nTaller vivencial de 55 minutos para identificar emociones atrapadas\n🔎 ¿Sabías que tu cuerpo guarda memorias emocionales que tu mente ha olvidado?\nMuchas veces sentimos malestar\, cansancio o bloqueo… y no sabemos por qué. La razón puede estar más cerca (y más dentro) de lo que imaginas: tu cuerpo. \nEn este espacio breve pero transformador\, te invito a experimentar una metodología sencilla y poderosa para empezar a identificar emociones atrapadas en tu cuerpo y abrir el camino hacia una presencia más plena. \n💡 ¿Qué haremos en este taller?\nVamos a identificar emociones atrapadas en tu cuerpo físico. Utilizaremos el Método del Dr. Bradley Nelson (Emotion Code)\, vamos a: \n\nExplorar cómo las emociones no procesadas quedan registradas en el cuerpo.\nConocer una herramienta simple para localizarlas y nombrarlas.\nEscuchar al cuerpo más allá de lo que la mente racional comprende.\nActivar tu presencia\, conexión y consciencia corporal.\nReconectar con tu cuerpo como un portal de sanación y autenticidad.\n\n🌱 Este espacio es para ti si…\n\nEstás en búsqueda de herramientas para tu bienestar emocional.\nQuieres volver a habitar tu cuerpo de forma más consciente.\nSientes cargas internas que no sabes explicar.\nTrabajas con personas y deseas experimentar nuevas formas de acompañamiento desde lo corporal y energético.\n\n📍 Detalles del taller:\n🗓 Fecha y hora; sábado 11 de octubre 10:30 am.📍 Lugar: Presencial🎟 Actividad gratuita en el marco del World Wellness Weekend 2025➡️ Sesión gratuita de 55 min.\n📍 Happiness & Life Academy – Madrid\n🔗 Reserva aquí tu plaza aqui abajo. Regístrate:\nCupo limitado – sesión íntima y transformadora \nContacto. Dudas\, preguntas: (34) 621 066 476 \n💬 Facilitado por:\nMónica Grossoni — Psicólogo/a transpersonal | Facilitadora de procesos cuerpo-emoción | Especialista en liderazgo auténtico y reconexión interior. \n✨ Regálate este momento de reconexión. Tu cuerpo tiene algo que decirte.\n🧘‍♀️ Te espero para escuchar juntos lo que tu cuerpo ha estado guardando. \n 
URL:https://www.happinessandlifeacademy.com/evento/escucha-lo-que-tu-cuerpo-calla/
CATEGORIES:Liberación emocional,Sesiones de descubrimiento
ATTACH;FMTTYPE=image/jpeg:https://www.happinessandlifeacademy.com/wp-content/uploads/2025/08/Gemini_Generated_Image_adg21aadg21aadg2.jpeg
END:VEVENT
BEGIN:VEVENT
DTSTART;TZID=Europe/Madrid:20251015T073000
DTEND;TZID=Europe/Madrid:20251015T220000
DTSTAMP:20260423T185329
CREATED:20250723T122204Z
LAST-MODIFIED:20250723T193356Z
UID:9657-1760513400-1760565600@www.happinessandlifeacademy.com
SUMMARY:Experiencia 3: ¿PARA QUÉ ESTOY AQUÍ? Del vacío existencial a la revelación del propósito profundo
DESCRIPTION:✨  Experiencia 3 del Ciclo “Volver a mí”\n¿PARA QUÉ ESTOY AQUÍ?\nDel vacío existencial a la revelación del propósito profundo\n❓ ¿Sientes que tienes mucho por ofrecer\, pero no sabes hacia dónde dirigirlo?\n¿Alguna vez has sentido que hay algo más para ti\, pero no logras ponerle palabras?\n¿Has probado cambiar de trabajo\, iniciar nuevos proyectos o reinventarte… y aun así sientes un vacío que no se llena? \n¿Y si no se trata de buscar más fuera\, sino de recordar lo que ya vive dentro de ti? \nEsta experiencia no es una charla sobre metas o planificación.\nEs un espacio sagrado para volver a conectar con tu propósito como una vibración interna\, no como una tarea externa.\nUn reencuentro con la semilla original que habita en tu alma. \n👣 Conducido por\nMónica Grossoni. Psicóloga transpersonal\, mentora y guía de procesos de transformación interior.\nTe acompañará a recordar quién eres y qué has venido a ofrecer\, desde un lugar auténtico y profundo. \n🎯 Objetivo\nReconectar con tu propósito esencial.\nNo desde la exigencia de hacer más\, sino desde la escucha amorosa de tu verdad interna.\nTu propósito no se busca\, se revela. \n👤 ¿Para quién es?\n✔️ Para mujeres y almas sensibles que sienten que algo importante les falta\n✔️ Para quienes están en transición o en búsqueda de un sentido más profundo\n✔️ Para personas que desean vivir desde su verdad y no desde los mandatos externos \n🌿 ¿Qué te llevas de esta experiencia?\n🌀 Un espacio seguro de introspección y conexión profunda\n🌱 Una visualización guiada para recordar tu semilla original\n🖋️ Una práctica de escritura canalizada para que tu alma hable\n💎 La certeza interna de que tu propósito no está perdido… solo olvidado \n📜 Contenido de la experiencia (2h30 aprox.)\n\nExploración del propósito desde la visión transpersonal\n– Visualización. Viaje guiado para conectar con el propósito que habita en ti desde siempre.\nEscritura canalizada.  Espacio íntimo para que emerjan mensajes desde tu ser más profundo.\nCierre y anclaje final\, integración y ritual de recordatorio.\n\n💌 Reserva tu plaza\n🗓️ Fecha: [Aquí puedes añadir fecha y hora]\n📍 Lugar: [Aquí puedes añadir dirección o indicar si es online/presencial]\n⏳ Duración: 2h30 aprox.\n💰 Inversión: 70 € – experiencia única\n👯 Promoción especial: si vienes con una amiga\, 2×1\n🎟️ Full Pass (si ya participaste en otra experiencia del ciclo): solo 25 €\n🌟 ¿Traes más de una amiga? Pregunta por el Plan Embajadoras \n📲 ¿Tienes dudas o quieres más info?\nEscríbeme directamente por WhatsApp: 621 066 476\nEstoy aquí para acompañarte. \n👇 Reserva tu plaza aquí abajo\n(plazas limitadas – experiencia íntima y transformadora) \n¿Vamos juntas a recordar lo que ya vive en ti?\nTu propósito te está esperando… dentro.
URL:https://www.happinessandlifeacademy.com/evento/para-que-estoy-aqui-del-vacio-existencial-a-la-revelacion-del-proposito-profundo/
CATEGORIES:Sesiones de descubrimiento
ATTACH;FMTTYPE=image/jpeg:https://www.happinessandlifeacademy.com/wp-content/uploads/2024/09/pexels-leeloo-the-first-5428829-scaled.jpg
END:VEVENT
BEGIN:VEVENT
DTSTART;TZID=Europe/Madrid:20251022T193000
DTEND;TZID=Europe/Madrid:20251022T220000
DTSTAMP:20260423T185329
CREATED:20250723T131624Z
LAST-MODIFIED:20250723T193220Z
UID:9661-1761161400-1761170400@www.happinessandlifeacademy.com
SUMMARY:Experiencia 4 Descubre la máscara de tu personaje
DESCRIPTION:la Experiencia 4 del ciclo “Volver a mí: el arte sagrado de recordar quién soy” \n🎭 Experiencia 4 del Ciclo “Volver a mí”\nLA MÁSCARA DEL PERSONAJE Soltar los roles\, volver a la esencia\n❓ ¿Te has convertido en lo que los demás esperaban de ti?\n¿Sientes que hay una versión tuya auténtica deseando salir… pero algo la mantiene oculta?\n¿Te descubres adaptándote\, conteniéndote o actuando para agradar\, pertenecer o no molestar? \n¿Y si la autenticidad no fuera peligrosa… sino tu mayor poder? \nEsta experiencia es un espacio valiente para soltar las máscaras\,\npara mirar de frente al personaje que creaste para sobrevivir…\ny volver a expresarte desde la verdad cruda\, libre y viva. \n👣 Conducido por Mónica Grossoni\nPsicóloga transpersonal\, tu mentora y guía personal.\nTe acompaña a recuperar tu voz y tu cuerpo como canales sagrados de expresión auténtica.\n🎯 Objetivo\nDescubrir como desprenderse de los roles heredados o construidos\, y volver a la expresión genuina y a la autenticidad esencial. \n👤 ¿Para quién es?\n✔️ Para quienes sienten que han perdido su voz propia\n✔️ Para mujeres que han vivido desde la exigencia\, el deber o la perfección\n✔️ Para quienes anhelan volver a sentirse libres\, espontáneas y verdaderas \n🌱 ¿Qué te llevas?\n✨ Una experiencia profunda de  descubrimiento y despertar emocional\n✨ Prácticas expresivas para reconectar con tu cuerpo y tu voz auténtica\n✨ Claridad sobre el personaje que has sostenido… y permiso para soltarlo\n✨ El recuerdo visceral de que ser tú no necesita permiso \n🌀 Contenidos & prácticas clave\n🌀 Ejercicio de máscaras – Reconocimiento simbólico de los roles que has sostenido\n🌀 Movimiento auténtico – Liberación corporal guiada desde la presencia\n🌀 Palabra viva – Ejercicio de expresión genuina desde el corazón \n💬 Código transpersonal\n“Ser yo no necesita permiso.” \n💫 Reserva tu lugar\n🎟️ Inversión: 70€ (experiencia única e irrepetible)\n👭 Promo: 2×1 si vienes con una amiga\n🎟️ Full Pass: Si ya participaste en otra experiencia del ciclo\, esta te sale por 25€\n👑 ¿Más de una amiga interesada? Pregunta por el Plan de Embajadoras \n📲 Para dudas o reservar tu plaza directamente\, escríbenos al WhatsApp:\n621 066 476 \n👇 Reserva tu plaza aquí abajo y comienza a soltar lo que ya no eres.\nLa verdad te está esperando. \n 
URL:https://www.happinessandlifeacademy.com/evento/experiencia-4-descubre-la-mascara-de-tu-personaje/
CATEGORIES:Sesiones de descubrimiento
ATTACH;FMTTYPE=image/jpeg:https://www.happinessandlifeacademy.com/wp-content/uploads/2025/02/unnamed.jpg
END:VEVENT
BEGIN:VEVENT
DTSTART;TZID=Europe/Madrid:20251029T193000
DTEND;TZID=Europe/Madrid:20251029T220000
DTSTAMP:20260423T185329
CREATED:20250723T134443Z
LAST-MODIFIED:20250723T192130Z
UID:9666-1761766200-1761775200@www.happinessandlifeacademy.com
SUMMARY:Experiencia 5 LA HERIDA COMO MENSAJERO
DESCRIPTION:Experiencia 5 del ciclo “Volver a mí: el arte sagrado de recordar quién soy”\, \n🕯️  Experiencia 5 del Ciclo “Volver a mí”\nLA HERIDA COMO MENSAJERO La llamada del alma a la transformación\n❓ ¿Y si aquello que más te dolió… fuera también lo que más te reveló sobre ti?\n¿Y si el dolor que llevas no fuera un error que hay que corregir… sino un mapa secreto hacia tu sabiduría más profunda? \n¿Estás lista para mirar tu herida con nuevos ojos?\nPara dejar de esconderla o luchar contra ella… y empezar a escuchar lo que viene a enseñarte. \nEsta experiencia es una invitación sagrada a sanar desde la verdad\, no desde el rechazo. \n👣 Conducido por\nMónica Grossoni\, Psicóloga transpersonal\, tu mentora y guía personal.\nTe acompaña a hacer las paces con tu historia y liberar la voz de tu alma a través de tu herida. \n🎯 Objetivo\nReconocer la herida no como un obstáculo\, sino como la puerta al despertar del alma. \nIdentificar el mensaje oculto de las heridas\, en el dolor\, en la mascara. Para iniciar el viaje que transforma el sufrimiento en sabiduría. \n👤 ¿Para quién es?\n✔️ Para quienes sienten que hay heridas que aún duelen y limitan.\n✔️ Para personas en procesos de sanación\, transición o despertar.\n✔️ Para quienes intuyen que su mayor sensibilidad puede ser también su mayor fuerza. \n🌱 ¿Qué te llevas de esta experiencia?\n✨ Una nueva mirada compasiva sobre tu historia.\n✨ Técnicas para cuidar y abrazar a tu niño interior desde tu adulto luminoso.\n✨ Liberación emocional y sanación a través del cuerpo\, la palabra y el sonido.\n✨ Reconexión con el propósito escondido tras la herida. \n📚 Contenidos & Estructura\nDuración: 2h30min aprox. \n\nBienvenida íntima y conexión con el espacio\nExploración guiada de la herida como llamado del alma\nPráctica vivencial:\nCírculo final de palabra viva para compartir\, sostener y anclar\n\n✨ Código de la experiencia\n“Mi herida no me define\, me guía.” \n📍 Reserva tu plaza\nInversión: 70 € – experiencia única\n🎁 Trae a una amiga y venís 2×1\n🎫 ¿Te sumas a más experiencias? Full Pass por solo 25 € cada una\n🤝 Si vienes con más de una amiga\, pregunta por el Plan de Embajadoras \n📲 ¿Dudas o preguntas? Escríbeme por WhatsApp: 👉 [621 066 476]\n🔻 Reserva tu plaza aquí abajo. Plazas limitadas.\nPorque a veces\, la herida solo necesita ser vista… para convertirse en luz. \n 
URL:https://www.happinessandlifeacademy.com/evento/experiencia-5-la-herida-como-mensajero/
CATEGORIES:Heridas y traumitas de infancia,Liberación emocional,Sesiones de descubrimiento
ATTACH;FMTTYPE=image/jpeg:https://www.happinessandlifeacademy.com/wp-content/uploads/2025/07/pexels-yankrukov-4667790-scaled.jpg
END:VEVENT
END:VCALENDAR